BEGIN:VCALENDAR
VERSION:2.0
PRODID:-//Pollards Hill Baptist Church - ECPv6.14.2//NONSGML v1.0//EN
CALSCALE:GREGORIAN
METHOD:PUBLISH
X-ORIGINAL-URL:https://www.phbc.org.uk
X-WR-CALDESC:Events for Pollards Hill Baptist Church
REFRESH-INTERVAL;VALUE=DURATION:PT1H
X-Robots-Tag:noindex
X-PUBLISHED-TTL:PT1H
BEGIN:VTIMEZONE
TZID:Europe/London
BEGIN:DAYLIGHT
TZOFFSETFROM:+0000
TZOFFSETTO:+0100
TZNAME:BST
DTSTART:20220327T010000
END:DAYLIGHT
BEGIN:STANDARD
TZOFFSETFROM:+0100
TZOFFSETTO:+0000
TZNAME:GMT
DTSTART:20221030T010000
END:STANDARD
END:VTIMEZONE
BEGIN:VEVENT
DTSTART;TZID=Europe/London:20220827T120000
DTEND;TZID=Europe/London:20220827T170000
DTSTAMP:20260425T223541
CREATED:20220728T083746Z
LAST-MODIFIED:20220728T083839Z
UID:15765-1661601600-1661619600@www.phbc.org.uk
SUMMARY:Pollards Hill Community Funday 2022
DESCRIPTION:﻿﻿﻿﻿﻿﻿﻿﻿﻿﻿﻿﻿﻿﻿﻿﻿﻿﻿﻿﻿﻿﻿﻿﻿﻿﻿﻿﻿﻿﻿﻿﻿﻿﻿﻿﻿﻿﻿﻿﻿﻿﻿﻿﻿﻿﻿﻿﻿﻿﻿﻿﻿﻿﻿﻿﻿﻿﻿ \nIt’s the 2022 August Bank Holiday weekend\, and the last weekend before school starts\, so why not? \nSo\, come out and celebrate all things Pollards Hill\, with fun\, games\, rides and activities for all ages\, DJ and live performances\, food\, drink\, health\, wellbeing\, gardening and money advice sessions\, and so much more. \nOh\, and IT’S FREE! \nGo to www.pollardshillcommunityfunday.com for more information. \n\nThe event will be streamed live on YouTube\, Facebook and Twitter. \nSUBSCRIBE TO OUR CHANNEL – https://www.youtube.com/channel/UCTW1g0yFO0su73L3xBojOIQ?sub_confirmation=1
URL:https://www.phbc.org.uk/event/pollards-hill-community-funday-2022/
CATEGORIES:PHBC Events
ATTACH;FMTTYPE=image/jpeg:https://www.phbc.org.uk/wp-content/uploads/2022/07/PHCF2022-Poster.jpg
END:VEVENT
END:VCALENDAR