BEGIN:VCALENDAR
VERSION:2.0
PRODID:-//Pollards Hill Baptist Church - ECPv6.14.2//NONSGML v1.0//EN
CALSCALE:GREGORIAN
METHOD:PUBLISH
X-WR-CALNAME:Pollards Hill Baptist Church
X-ORIGINAL-URL:https://www.phbc.org.uk
X-WR-CALDESC:Events for Pollards Hill Baptist Church
REFRESH-INTERVAL;VALUE=DURATION:PT1H
X-Robots-Tag:noindex
X-PUBLISHED-TTL:PT1H
BEGIN:VTIMEZONE
TZID:Europe/London
BEGIN:DAYLIGHT
TZOFFSETFROM:+0000
TZOFFSETTO:+0100
TZNAME:BST
DTSTART:20220327T010000
END:DAYLIGHT
BEGIN:STANDARD
TZOFFSETFROM:+0100
TZOFFSETTO:+0000
TZNAME:GMT
DTSTART:20221030T010000
END:STANDARD
END:VTIMEZONE
BEGIN:VEVENT
DTSTART;TZID=Europe/London:20221106T103000
DTEND;TZID=Europe/London:20221106T120000
DTSTAMP:20260421T124606
CREATED:20221021T220729Z
LAST-MODIFIED:20221021T220729Z
UID:15958-1667730600-1667736000@www.phbc.org.uk
SUMMARY:PHBC Common Questions Series: A Question of Justice
DESCRIPTION:Join us in person and online\, for our regular time of worship this Sunday at 10:30am.  The theme for this week is\, ‘A Question of Justice’. We’re pretty confident you’ll be blessed. \n\n\n\n\n\n\n\n\n\n\nIs this your first time here? How do we get there? How much does it cost? These are common questions as we journey through life. In this monthly series\, we aim to take on some of the deeper issues we face. This month\, we address the question of anger.\n\n\n\n\n\n\n\n\n\n\n\nThe full service will be streamed live on our radio station\, PHBC Radio\, as well as via YouTube\, Facebook and Twitter. \nDownload the PHBC Radio app today: \nFOR APPLE – https://apps.apple.com/us/app/phbc-radio/id1517137702?ls=1\nFOR ANDROID – https://play.google.com/store/apps/details?id=com.vDevs.phcbpro \nSUBSCRIBE TO OUR CHANNEL – https://www.youtube.com/channel/UCTW1g0yFO0su73L3xBojOIQ?sub_confirmation=1 \n\n﻿﻿﻿﻿﻿﻿﻿﻿﻿﻿﻿﻿﻿﻿﻿﻿﻿﻿﻿﻿﻿﻿﻿﻿﻿﻿﻿﻿﻿﻿﻿﻿﻿﻿﻿﻿﻿﻿﻿﻿﻿﻿﻿﻿﻿﻿﻿﻿﻿﻿﻿﻿﻿﻿﻿﻿﻿﻿﻿﻿﻿﻿﻿﻿﻿﻿﻿﻿﻿﻿﻿﻿﻿﻿﻿
URL:https://www.phbc.org.uk/event/phbc-common-questions-series-a-question-of-justice/
CATEGORIES:PHBC Events
ATTACH;FMTTYPE=image/jpeg:https://www.phbc.org.uk/wp-content/uploads/2022/10/221106.jpg
END:VEVENT
END:VCALENDAR