BEGIN:VCALENDAR
VERSION:2.0
PRODID:-//Pollards Hill Baptist Church - ECPv6.14.2//NONSGML v1.0//EN
CALSCALE:GREGORIAN
METHOD:PUBLISH
X-WR-CALNAME:Pollards Hill Baptist Church
X-ORIGINAL-URL:https://www.phbc.org.uk
X-WR-CALDESC:Events for Pollards Hill Baptist Church
REFRESH-INTERVAL;VALUE=DURATION:PT1H
X-Robots-Tag:noindex
X-PUBLISHED-TTL:PT1H
BEGIN:VTIMEZONE
TZID:Europe/London
BEGIN:DAYLIGHT
TZOFFSETFROM:+0000
TZOFFSETTO:+0100
TZNAME:BST
DTSTART:20220327T010000
END:DAYLIGHT
BEGIN:STANDARD
TZOFFSETFROM:+0100
TZOFFSETTO:+0000
TZNAME:GMT
DTSTART:20221030T010000
END:STANDARD
END:VTIMEZONE
BEGIN:VEVENT
DTSTART;TZID=Europe/London:20221120T103000
DTEND;TZID=Europe/London:20221120T120000
DTSTAMP:20260420T134659
CREATED:20221030T000318Z
LAST-MODIFIED:20221030T000318Z
UID:15967-1668940200-1668945600@www.phbc.org.uk
SUMMARY:PHBC Family Worship Service – Look Where You're Going
DESCRIPTION:Join us in person and online\, for our regular time of worship this Sunday at 10:30am.  The theme for this week is\, ‘Look Where You’re Going’. We’re pretty confident you’ll be blessed. \n\n\n\n\n\n\n\n\n\n\nThe Christian life is a journey\, on which the Lord calls us to go. Yet\, without a route\, there can be no destination. Without light\, we cannot truly see our route. Without God’s word\, there can be no true light.\n\n\n\n\n\n\n\n\n\n\n\nThe full service will be streamed live on our radio station\, PHBC Radio\, as well as via YouTube\, Facebook and Twitter. \nDownload the PHBC Radio app today: \nFOR APPLE – https://apps.apple.com/us/app/phbc-radio/id1517137702?ls=1\nFOR ANDROID – https://play.google.com/store/apps/details?id=com.vDevs.phcbpro \nSUBSCRIBE TO OUR CHANNEL – https://www.youtube.com/channel/UCTW1g0yFO0su73L3xBojOIQ?sub_confirmation=1 \n\n﻿﻿﻿﻿﻿﻿﻿﻿﻿﻿﻿﻿﻿﻿﻿﻿﻿﻿﻿﻿﻿﻿﻿﻿﻿﻿﻿﻿﻿﻿﻿﻿﻿﻿﻿﻿﻿﻿﻿﻿﻿﻿﻿﻿﻿﻿﻿﻿﻿﻿﻿﻿﻿﻿﻿﻿﻿﻿﻿﻿﻿﻿﻿﻿﻿
URL:https://www.phbc.org.uk/event/phbc-family-worship-service-look-where-youre-going/
CATEGORIES:PHBC Events
ATTACH;FMTTYPE=image/jpeg:https://www.phbc.org.uk/wp-content/uploads/2022/10/221120.jpg
END:VEVENT
END:VCALENDAR