BEGIN:VCALENDAR
VERSION:2.0
PRODID:-//Pollards Hill Baptist Church - ECPv6.14.2//NONSGML v1.0//EN
CALSCALE:GREGORIAN
METHOD:PUBLISH
X-ORIGINAL-URL:https://www.phbc.org.uk
X-WR-CALDESC:Events for Pollards Hill Baptist Church
REFRESH-INTERVAL;VALUE=DURATION:PT1H
X-Robots-Tag:noindex
X-PUBLISHED-TTL:PT1H
BEGIN:VTIMEZONE
TZID:Europe/London
BEGIN:DAYLIGHT
TZOFFSETFROM:+0000
TZOFFSETTO:+0100
TZNAME:BST
DTSTART:20240331T010000
END:DAYLIGHT
BEGIN:STANDARD
TZOFFSETFROM:+0100
TZOFFSETTO:+0000
TZNAME:GMT
DTSTART:20241027T010000
END:STANDARD
END:VTIMEZONE
BEGIN:VEVENT
DTSTART;TZID=Europe/London:20240324T103000
DTEND;TZID=Europe/London:20240324T120000
DTSTAMP:20260424T180134
CREATED:20240203T192403Z
LAST-MODIFIED:20240203T192403Z
UID:16899-1711276200-1711281600@www.phbc.org.uk
SUMMARY:PHBC Palm Sunday Service: The King is Coming
DESCRIPTION:Join us in person and online\, for our time of worship this Palm Sunday at 10:30am.  The theme for this week is\, ‘The King is Coming’. We’re pretty confident you’ll be blessed. \n\n\n\n\n\n\n\n\n\n\nEvery Palm Sunday we commemorate the day an entire city welcomed Jesus’ coming as King. However\, by the end of that week\, the very same people were calling for His crucifixion. It is not enough for a Christian to merely say that Jesus is the King of glory; we must enthrone Him as the King of our heart.\n\n\n\n\n\n\n\n\n\n\n\nThe full service will be streamed live on our radio station\, PHBC Radio\, as well as via YouTube\, Facebook and Twitter. \nDownload the PHBC Radio app today: \nFOR APPLE – https://apps.apple.com/us/app/phbc-radio/id1517137702?ls=1\nFOR ANDROID – https://play.google.com/store/apps/details?id=com.vDevs.phcbpro \nSUBSCRIBE TO OUR CHANNEL – https://www.youtube.com/channel/UCTW1g0yFO0su73L3xBojOIQ?sub_confirmation=1 \n\n﻿﻿﻿﻿﻿﻿﻿﻿
URL:https://www.phbc.org.uk/event/phbc-palm-sunday-service-the-king-is-coming/
CATEGORIES:PHBC Events
ATTACH;FMTTYPE=image/png:https://www.phbc.org.uk/wp-content/uploads/2024/02/240324.png
END:VEVENT
END:VCALENDAR