BEGIN:VCALENDAR
VERSION:2.0
PRODID:-//Pollards Hill Baptist Church - ECPv6.14.2//NONSGML v1.0//EN
CALSCALE:GREGORIAN
METHOD:PUBLISH
X-ORIGINAL-URL:https://www.phbc.org.uk
X-WR-CALDESC:Events for Pollards Hill Baptist Church
REFRESH-INTERVAL;VALUE=DURATION:PT1H
X-Robots-Tag:noindex
X-PUBLISHED-TTL:PT1H
BEGIN:VTIMEZONE
TZID:Europe/London
BEGIN:DAYLIGHT
TZOFFSETFROM:+0000
TZOFFSETTO:+0100
TZNAME:BST
DTSTART:20240331T010000
END:DAYLIGHT
BEGIN:STANDARD
TZOFFSETFROM:+0100
TZOFFSETTO:+0000
TZNAME:GMT
DTSTART:20241027T010000
END:STANDARD
END:VTIMEZONE
BEGIN:VEVENT
DTSTART;TZID=Europe/London:20240329T103000
DTEND;TZID=Europe/London:20240329T113000
DTSTAMP:20260424T101309
CREATED:20240203T193003Z
LAST-MODIFIED:20240325T080726Z
UID:16901-1711708200-1711711800@www.phbc.org.uk
SUMMARY:PHBC Good Friday Service: Sunday's Coming!
DESCRIPTION:Join us in person and online\, for our Good Friday service at 10:30am.  The theme for this year is\, ‘Sunday’s Coming!’. We’re pretty confident you’ll be blessed. \n\n\n\n\n\n\n\n\n\n\nOn a Friday\, two thousand years ago\, Jesus died on a cross\, reminding us that even in the darkest of times\, there is always hope\, if we would only look. By His death\, we have a new beginning and now\, no matter how dark our Friday may seem\, we know that Sunday is coming.\n\n\n\n\n\n\n\n\n\n\n\nThe full service will be streamed live on our radio station\, PHBC Radio\, as well as via YouTube\, Facebook and Twitter. \nDownload the PHBC Radio app today: \nFOR APPLE – https://apps.apple.com/us/app/phbc-radio/id1517137702?ls=1\nFOR ANDROID – https://play.google.com/store/apps/details?id=com.vDevs.phcbpro \nSUBSCRIBE TO OUR CHANNEL – https://www.youtube.com/channel/UCTW1g0yFO0su73L3xBojOIQ?sub_confirmation=1 \n\n﻿﻿﻿﻿﻿﻿﻿﻿﻿
URL:https://www.phbc.org.uk/event/phbc-good-friday-service-sundays-coming/
CATEGORIES:PHBC Events
ATTACH;FMTTYPE=image/png:https://www.phbc.org.uk/wp-content/uploads/2024/02/240329.png
END:VEVENT
END:VCALENDAR