BEGIN:VCALENDAR
VERSION:2.0
PRODID:-//Pollards Hill Baptist Church - ECPv6.14.2//NONSGML v1.0//EN
CALSCALE:GREGORIAN
METHOD:PUBLISH
X-ORIGINAL-URL:https://www.phbc.org.uk
X-WR-CALDESC:Events for Pollards Hill Baptist Church
REFRESH-INTERVAL;VALUE=DURATION:PT1H
X-Robots-Tag:noindex
X-PUBLISHED-TTL:PT1H
BEGIN:VTIMEZONE
TZID:Europe/London
BEGIN:DAYLIGHT
TZOFFSETFROM:+0000
TZOFFSETTO:+0100
TZNAME:BST
DTSTART:20240331T010000
END:DAYLIGHT
BEGIN:STANDARD
TZOFFSETFROM:+0100
TZOFFSETTO:+0000
TZNAME:GMT
DTSTART:20241027T010000
END:STANDARD
END:VTIMEZONE
BEGIN:VEVENT
DTSTART;TZID=Europe/London:20240407T103000
DTEND;TZID=Europe/London:20240407T123000
DTSTAMP:20260423T195556
CREATED:20240329T191553Z
LAST-MODIFIED:20240329T191652Z
UID:16956-1712485800-1712493000@www.phbc.org.uk
SUMMARY:PHBC Family Worship Service: When the Going Gets Tough
DESCRIPTION:Join us in person and online\, for our regular time of worship this Sunday at 10:30am.  The theme for this week is\, ‘When the Going Gets Tough’. We’re pretty confident you’ll be blessed. \n\n\n\n\n\n\n\n\n\n\nDrivers in most contemporary cities will often have to contend with pot holes\, speed bumps and traffic jams. As we journey through 2024\, it is essential that we have all we need to keep going\, no matter what obstacles we may encounter along our way.\n\n\n\n\n\n\n\n\n\n\n\nThe full service will be streamed live on our radio station\, PHBC Radio\, as well as via YouTube\, Facebook and Twitter. \nDownload the PHBC Radio app today: \nFOR APPLE – https://apps.apple.com/us/app/phbc-radio/id1517137702?ls=1\nFOR ANDROID – https://play.google.com/store/apps/details?id=com.vDevs.phcbpro \nSUBSCRIBE TO OUR CHANNEL – https://www.youtube.com/channel/UCTW1g0yFO0su73L3xBojOIQ?sub_confirmation=1 \n\n﻿﻿﻿﻿﻿﻿﻿﻿
URL:https://www.phbc.org.uk/event/phbc-family-worship-service-when-the-going-gets-tough/
CATEGORIES:PHBC Events
ATTACH;FMTTYPE=image/png:https://www.phbc.org.uk/wp-content/uploads/2024/03/240407.png
END:VEVENT
END:VCALENDAR