BEGIN:VCALENDAR
VERSION:2.0
PRODID:-//Pollards Hill Baptist Church - ECPv6.14.2//NONSGML v1.0//EN
CALSCALE:GREGORIAN
METHOD:PUBLISH
X-WR-CALNAME:Pollards Hill Baptist Church
X-ORIGINAL-URL:https://www.phbc.org.uk
X-WR-CALDESC:Events for Pollards Hill Baptist Church
REFRESH-INTERVAL;VALUE=DURATION:PT1H
X-Robots-Tag:noindex
X-PUBLISHED-TTL:PT1H
BEGIN:VTIMEZONE
TZID:Europe/London
BEGIN:DAYLIGHT
TZOFFSETFROM:+0000
TZOFFSETTO:+0100
TZNAME:BST
DTSTART:20240331T010000
END:DAYLIGHT
BEGIN:STANDARD
TZOFFSETFROM:+0100
TZOFFSETTO:+0000
TZNAME:GMT
DTSTART:20241027T010000
END:STANDARD
END:VTIMEZONE
BEGIN:VEVENT
DTSTART;TZID=Europe/London:20240414T103000
DTEND;TZID=Europe/London:20240414T123000
DTSTAMP:20260423T095616
CREATED:20240329T192018Z
LAST-MODIFIED:20240329T192616Z
UID:16960-1713090600-1713097800@www.phbc.org.uk
SUMMARY:PHBC Family Worship Service: Lessons from the Shipwreck
DESCRIPTION:Join us in person and online\, for our regular time of worship this Sunday at 10:30am.  The theme for this week is\, ‘Lessons from the Shipwreck’. We’re pretty confident you’ll be blessed. \nAt one point or another\, we will all face a myriad of trials and suffering\, as well as the storms of life\, and not every voyage is a smooth one. What survival skills do we need to get through our storm filled world? When we face shipwreck\, what can be salvaged? \nThe full service will be streamed live on our radio station\, PHBC Radio\, as well as via YouTube\, Facebook and Twitter. \nDownload the PHBC Radio app today: \nFOR APPLE – https://apps.apple.com/us/app/phbc-radio/id1517137702?ls=1\nFOR ANDROID – https://play.google.com/store/apps/details?id=com.vDevs.phcbproSUBSCRIBE TO OUR CHANNEL – https://www.youtube.com/channel/UCTW1g0yFO0su73L3xBojOIQ?sub_confirmation=1\n.\n﻿﻿﻿﻿﻿﻿﻿﻿﻿
URL:https://www.phbc.org.uk/event/phbc-family-worship-service-lessons-from-the-shipwreck/
CATEGORIES:PHBC Events
ATTACH;FMTTYPE=image/jpeg:https://www.phbc.org.uk/wp-content/uploads/2024/03/240414.jpg
END:VEVENT
END:VCALENDAR