BEGIN:VCALENDAR
VERSION:2.0
PRODID:-//Pollards Hill Baptist Church - ECPv6.14.2//NONSGML v1.0//EN
CALSCALE:GREGORIAN
METHOD:PUBLISH
X-ORIGINAL-URL:https://www.phbc.org.uk
X-WR-CALDESC:Events for Pollards Hill Baptist Church
REFRESH-INTERVAL;VALUE=DURATION:PT1H
X-Robots-Tag:noindex
X-PUBLISHED-TTL:PT1H
BEGIN:VTIMEZONE
TZID:Europe/London
BEGIN:DAYLIGHT
TZOFFSETFROM:+0000
TZOFFSETTO:+0100
TZNAME:BST
DTSTART:20240331T010000
END:DAYLIGHT
BEGIN:STANDARD
TZOFFSETFROM:+0100
TZOFFSETTO:+0000
TZNAME:GMT
DTSTART:20241027T010000
END:STANDARD
END:VTIMEZONE
BEGIN:VEVENT
DTSTART;TZID=Europe/London:20240428T103000
DTEND;TZID=Europe/London:20240428T120000
DTSTAMP:20260422T134015
CREATED:20240418T231923Z
LAST-MODIFIED:20240418T232006Z
UID:17004-1714300200-1714305600@www.phbc.org.uk
SUMMARY:PHBC Family Worship Service: GOD\, GIVE ME A PLAN: Effecting the Solution
DESCRIPTION:Join us in person and online\, for our regular time of worship this Sunday at 10:30am for the final part of our 2-part sermon series – GOD\, GIVE ME A PLAN.  The theme for this week is\, ‘Effecting the Solution’. We’re pretty confident you’ll be blessed. \n\n\n\n\n\n\n\n\n\n\nGod always has\, always does and always will have a plan. He knows the hairs on your heads\, the thoughts in our minds\, and the hours that we will live on this earth. He does not overlook attention to detail. Whatever we are going through\, we can know God’s plan\, if we just ask.\n\n\n\n\n\n\n\n\n\n\n\nThe full service will be streamed live on our radio station\, PHBC Radio\, as well as via YouTube\, Facebook and Twitter. \nDownload the PHBC Radio app today: \nFOR APPLE – https://apps.apple.com/us/app/phbc-radio/id1517137702?ls=1\nFOR ANDROID – https://play.google.com/store/apps/details?id=com.vDevs.phcbpro \nSUBSCRIBE TO OUR CHANNEL – https://www.youtube.com/channel/UCTW1g0yFO0su73L3xBojOIQ?sub_confirmation=1 \n\n﻿﻿﻿﻿﻿﻿﻿﻿﻿﻿﻿﻿﻿﻿
URL:https://www.phbc.org.uk/event/phbc-family-worship-service-god-give-me-a-plan-effecting-the-solution/
CATEGORIES:PHBC Events
ATTACH;FMTTYPE=image/png:https://www.phbc.org.uk/wp-content/uploads/2024/04/240428.png
END:VEVENT
END:VCALENDAR