BEGIN:VCALENDAR
VERSION:2.0
PRODID:-//Pollards Hill Baptist Church - ECPv6.14.2//NONSGML v1.0//EN
CALSCALE:GREGORIAN
METHOD:PUBLISH
X-ORIGINAL-URL:https://www.phbc.org.uk
X-WR-CALDESC:Events for Pollards Hill Baptist Church
REFRESH-INTERVAL;VALUE=DURATION:PT1H
X-Robots-Tag:noindex
X-PUBLISHED-TTL:PT1H
BEGIN:VTIMEZONE
TZID:Europe/London
BEGIN:DAYLIGHT
TZOFFSETFROM:+0000
TZOFFSETTO:+0100
TZNAME:BST
DTSTART:20260329T010000
END:DAYLIGHT
BEGIN:STANDARD
TZOFFSETFROM:+0100
TZOFFSETTO:+0000
TZNAME:GMT
DTSTART:20261025T010000
END:STANDARD
END:VTIMEZONE
BEGIN:VEVENT
DTSTART;TZID=Europe/London:20260712T103000
DTEND;TZID=Europe/London:20260712T123000
DTSTAMP:20260421T214607
CREATED:20260421T162459Z
LAST-MODIFIED:20260421T162459Z
UID:17920-1783852200-1783859400@www.phbc.org.uk
SUMMARY:PHBC Family Worship Service: FAMOUS LAST WORDS: What Jesus Said Pt.6
DESCRIPTION:Join us in person and online\, at our regular time of worship this Sunday at 10:30am for part 9 of our sermon series – FAMOUS LAST WORDS. The theme for this week is\, ‘What Jesus Said Pt.6’. We’re pretty confident you’ll be blessed. \nWhen someone is leaving and more importantly\, when they are dying\, their last words are often very critical. Our 10-week sermon series takes a look at the final instructions of various biblical characters to help us grow in our understanding of God’s instructions to us. In this sermon we consider some of the famous last words of Jesus. \nThe full service will be streamed live on our radio station\, PHBC Radio\, as well as via YouTube\, Facebook and Twitter. \nDownload the PHBC Radio app today: \nFOR APPLE – https://apps.apple.com/us/app/phbc-radio/id1517137702?ls=1\nFOR ANDROID – https://play.google.com/store/apps/details?id=com.vDevs.phcbpro\nSUBSCRIBE TO OUR CHANNEL – https://www.youtube.com/channel/UCTW1g0yFO0su73L3xBojOIQ?sub_confirmation=1\n.\n﻿﻿﻿﻿﻿﻿﻿﻿﻿﻿﻿﻿﻿﻿﻿﻿﻿﻿﻿﻿﻿﻿﻿﻿﻿﻿﻿﻿﻿﻿﻿﻿﻿﻿﻿﻿﻿﻿﻿﻿﻿﻿﻿﻿﻿﻿﻿﻿﻿﻿﻿﻿﻿﻿﻿﻿﻿﻿﻿﻿﻿﻿﻿
URL:https://www.phbc.org.uk/event/phbc-family-worship-service-famous-last-words-what-jesus-said-pt-6/
CATEGORIES:PHBC Events
ATTACH;FMTTYPE=image/jpeg:https://www.phbc.org.uk/wp-content/uploads/2026/04/260712.jpeg
END:VEVENT
BEGIN:VEVENT
DTSTART;TZID=Europe/London:20260719T103000
DTEND;TZID=Europe/London:20260719T123000
DTSTAMP:20260421T214607
CREATED:20260421T162639Z
LAST-MODIFIED:20260421T162639Z
UID:17922-1784457000-1784464200@www.phbc.org.uk
SUMMARY:PHBC Family Worship Service: FAMOUS LAST WORDS: What Jesus Said Pt.7
DESCRIPTION:Join us in person and online\, at our regular time of worship this Sunday at 10:30am for the final sermon in our series – FAMOUS LAST WORDS. The theme for this week is\, ‘What Jesus Said Pt.7’. We’re pretty confident you’ll be blessed. \nWhen someone is leaving and more importantly\, when they are dying\, their last words are often very critical. Our 10-week sermon series takes a look at the final instructions of various biblical characters to help us grow in our understanding of God’s instructions to us. In this sermon we consider some of the famous last words of Jesus. \nThe full service will be streamed live on our radio station\, PHBC Radio\, as well as via YouTube\, Facebook and Twitter. \nDownload the PHBC Radio app today: \nFOR APPLE – https://apps.apple.com/us/app/phbc-radio/id1517137702?ls=1\nFOR ANDROID – https://play.google.com/store/apps/details?id=com.vDevs.phcbpro\nSUBSCRIBE TO OUR CHANNEL – https://www.youtube.com/channel/UCTW1g0yFO0su73L3xBojOIQ?sub_confirmation=1\n.\n﻿﻿﻿﻿﻿﻿﻿﻿﻿﻿﻿﻿﻿﻿﻿﻿﻿﻿﻿﻿﻿﻿﻿﻿﻿﻿﻿﻿﻿﻿﻿﻿﻿﻿﻿﻿﻿﻿﻿﻿﻿﻿﻿﻿﻿﻿﻿﻿﻿﻿﻿﻿﻿﻿﻿﻿﻿﻿﻿﻿﻿﻿﻿﻿
URL:https://www.phbc.org.uk/event/phbc-family-worship-service-famous-last-words-what-jesus-said-pt-7/
CATEGORIES:PHBC Events
ATTACH;FMTTYPE=image/jpeg:https://www.phbc.org.uk/wp-content/uploads/2026/04/260719.jpeg
END:VEVENT
END:VCALENDAR