BEGIN:VCALENDAR
VERSION:2.0
PRODID:-//Pollards Hill Baptist Church - ECPv6.14.2//NONSGML v1.0//EN
CALSCALE:GREGORIAN
METHOD:PUBLISH
X-WR-CALNAME:Pollards Hill Baptist Church
X-ORIGINAL-URL:https://www.phbc.org.uk
X-WR-CALDESC:Events for Pollards Hill Baptist Church
REFRESH-INTERVAL;VALUE=DURATION:PT1H
X-Robots-Tag:noindex
X-PUBLISHED-TTL:PT1H
BEGIN:VTIMEZONE
TZID:UTC
BEGIN:STANDARD
TZOFFSETFROM:+0000
TZOFFSETTO:+0000
TZNAME:UTC
DTSTART:20260101T000000
END:STANDARD
END:VTIMEZONE
BEGIN:VTIMEZONE
TZID:Europe/London
BEGIN:DAYLIGHT
TZOFFSETFROM:+0000
TZOFFSETTO:+0100
TZNAME:BST
DTSTART:20260329T010000
END:DAYLIGHT
BEGIN:STANDARD
TZOFFSETFROM:+0100
TZOFFSETTO:+0000
TZNAME:GMT
DTSTART:20261025T010000
END:STANDARD
END:VTIMEZONE
BEGIN:VEVENT
DTSTART;TZID=UTC:20260509T183000
DTEND;TZID=UTC:20260509T220000
DTSTAMP:20260422T011822
CREATED:20260325T231445Z
LAST-MODIFIED:20260326T215420Z
UID:17851-1778351400-1778364000@www.phbc.org.uk
SUMMARY:It Is Well with My Soul - The Musical
DESCRIPTION:★★★★★ “Poignant\, elegant\, and deeply moving.” – London Fringe Theatre Reviews\n★★★★ “Excellent” – Theatre Scotland\n“A truly remarkable show” – The Baptist Times\n“It is Well with My Soul” is one of the most beloved hymns of all time\, with words by Horatio Spafford and music by Philip Bliss. This new musical tells the story of Philip and his wife\, Lucy\, how at the end of the American Civil War\, they end up moving to the growing metropolis of Chicago\, Illinois\, to make a new life for themselves. It is there they meet lawyer Horatio Spafford\, producer and publisher George Root\, and preacher and philanthropist D L Moody. \nAs Philip begins to gain prominence as a soloist and hymn-writer\, temptation begins to creep in: how will Philip handle the temptations that come with his new life? And how will the Blisses handle the tragic circumstances of the Great Chicago Fire and the loss of the Spafford girls in the sinking of the Ville du Havre? “It is Well with My Soul” invites you to explore the Gospel message of hope\, like an anchor for the soul. \nIn the storms of life\, is it well with your soul? \nBook your tickets to see this exciting new theatrical production at Pollards Hill Baptist Church\, and explore this enduring message of true and steadfast faith in the midst of tragedy and suffering. \n Suitable for everyone aged 7+. \nBOOK TICKETS HERE – EARLY BIRD TICKETS UNTIL 2ND MAY
URL:https://www.phbc.org.uk/event/it-is-well-with-my-soul-the-musical/
ATTACH;FMTTYPE=image/png:https://www.phbc.org.uk/wp-content/uploads/2026/03/itiswell.png
END:VEVENT
BEGIN:VEVENT
DTSTART;TZID=Europe/London:20260510T103000
DTEND;TZID=Europe/London:20260510T123000
DTSTAMP:20260422T011822
CREATED:20260421T151135Z
LAST-MODIFIED:20260421T151135Z
UID:17888-1778409000-1778416200@www.phbc.org.uk
SUMMARY:PHBC Family Worship Service: Back to the Beginning: What’s the Alternative?
DESCRIPTION:Join us in person and online\, for our regular time of worship this Sunday at 10:30am.  The theme for this week is\, ‘Back to the Beginning: What’s the Alternative?’. We’re pretty confident you’ll be blessed. \nWhile science explains mechanisms of origin\, scripture speaks to meaning\, portraying God as creator\, humanity as purposeful yet flawed\, and the world as good but broken. In this Q&A panel\, we explore the original origin story\, relationship with God\, redemption\, and questions that science alone cannot fully answer. \nThe full service will be streamed live on our radio station\, PHBC Radio\, as well as via YouTube\, Facebook and Twitter. \nDownload the PHBC Radio app today: \nFOR APPLE – https://apps.apple.com/us/app/phbc-radio/id1517137702?ls=1\nFOR ANDROID – https://play.google.com/store/apps/details?id=com.vDevs.phcbpro\nSUBSCRIBE TO OUR CHANNEL – https://www.youtube.com/channel/UCTW1g0yFO0su73L3xBojOIQ?sub_confirmation=1\n.\n﻿﻿﻿﻿﻿﻿﻿﻿﻿﻿﻿﻿﻿﻿﻿﻿﻿﻿﻿﻿﻿﻿﻿﻿﻿﻿﻿﻿﻿﻿﻿﻿﻿﻿﻿﻿﻿﻿﻿﻿﻿﻿﻿﻿﻿﻿﻿﻿﻿﻿﻿﻿﻿﻿﻿﻿﻿﻿﻿﻿﻿﻿﻿﻿﻿﻿﻿﻿﻿
URL:https://www.phbc.org.uk/event/phbc-family-worship-service-back-to-the-beginning-whats-the-alternative/
CATEGORIES:PHBC Events
ATTACH;FMTTYPE=image/jpeg:https://www.phbc.org.uk/wp-content/uploads/2026/04/260510.jpeg
END:VEVENT
BEGIN:VEVENT
DTSTART;TZID=Europe/London:20260517T103000
DTEND;TZID=Europe/London:20260517T123000
DTSTAMP:20260422T011822
CREATED:20260421T151522Z
LAST-MODIFIED:20260421T151522Z
UID:17901-1779013800-1779021000@www.phbc.org.uk
SUMMARY:PHBC Family Worship Service: FAMOUS LAST WORDS: What Moses Said
DESCRIPTION:Join us in person and online\, at our regular time of worship this Sunday at 10:30am for part 1 of our sermon series – FAMOUS LAST WORDS. The theme for this week is\, ‘What Moses Said’. We’re pretty confident you’ll be blessed. \nWhen someone is leaving and more importantly\, when they are dying\, their last words are often very critical. Our 10-week sermon series takes a look at the final instructions of various biblical characters to help us grow in our understanding of God’s instructions to us. In this sermon we consider some of the famous last words of Moses. \nThe full service will be streamed live on our radio station\, PHBC Radio\, as well as via YouTube\, Facebook and Twitter. \nDownload the PHBC Radio app today: \nFOR APPLE – https://apps.apple.com/us/app/phbc-radio/id1517137702?ls=1\nFOR ANDROID – https://play.google.com/store/apps/details?id=com.vDevs.phcbpro\nSUBSCRIBE TO OUR CHANNEL – https://www.youtube.com/channel/UCTW1g0yFO0su73L3xBojOIQ?sub_confirmation=1\n.\n﻿﻿﻿﻿﻿﻿﻿﻿﻿﻿﻿﻿﻿﻿﻿﻿﻿﻿﻿﻿﻿﻿﻿﻿﻿﻿﻿﻿﻿﻿﻿﻿﻿﻿﻿﻿﻿﻿﻿﻿﻿﻿﻿﻿﻿﻿﻿﻿﻿﻿﻿﻿﻿﻿
URL:https://www.phbc.org.uk/event/phbc-family-worship-service-famous-last-words-what-moses-said/
CATEGORIES:PHBC Events
ATTACH;FMTTYPE=image/jpeg:https://www.phbc.org.uk/wp-content/uploads/2026/04/260517.jpeg
END:VEVENT
BEGIN:VEVENT
DTSTART;TZID=Europe/London:20260524T103000
DTEND;TZID=Europe/London:20260524T123000
DTSTAMP:20260422T011822
CREATED:20260421T151658Z
LAST-MODIFIED:20260421T151729Z
UID:17903-1779618600-1779625800@www.phbc.org.uk
SUMMARY:PHBC Family Worship Service: FAMOUS LAST WORDS: What David Said
DESCRIPTION:Join us in person and online\, at our regular time of worship this Sunday at 10:30am for part 2 of our sermon series – FAMOUS LAST WORDS. The theme for this week is\, ‘What David Said’. We’re pretty confident you’ll be blessed. \nWhen someone is leaving and more importantly\, when they are dying\, their last words are often very critical. Our 10-week sermon series takes a look at the final instructions of various biblical characters to help us grow in our understanding of God’s instructions to us. In this sermon we consider some of the famous last words of David. \nThe full service will be streamed live on our radio station\, PHBC Radio\, as well as via YouTube\, Facebook and Twitter. \nDownload the PHBC Radio app today: \nFOR APPLE – https://apps.apple.com/us/app/phbc-radio/id1517137702?ls=1\nFOR ANDROID – https://play.google.com/store/apps/details?id=com.vDevs.phcbpro\nSUBSCRIBE TO OUR CHANNEL – https://www.youtube.com/channel/UCTW1g0yFO0su73L3xBojOIQ?sub_confirmation=1\n.\n﻿﻿﻿﻿﻿﻿﻿﻿﻿﻿﻿﻿﻿﻿﻿﻿﻿﻿﻿﻿﻿﻿﻿﻿﻿﻿﻿﻿﻿﻿﻿﻿﻿﻿﻿﻿﻿﻿﻿﻿﻿﻿﻿﻿﻿﻿﻿﻿﻿﻿﻿﻿﻿﻿﻿
URL:https://www.phbc.org.uk/event/phbc-family-worship-service-famous-last-words-what-david-said/
CATEGORIES:PHBC Events
ATTACH;FMTTYPE=image/jpeg:https://www.phbc.org.uk/wp-content/uploads/2026/04/260524.jpeg
END:VEVENT
BEGIN:VEVENT
DTSTART;TZID=Europe/London:20260531T103000
DTEND;TZID=Europe/London:20260531T123000
DTSTAMP:20260422T011822
CREATED:20260421T151832Z
LAST-MODIFIED:20260421T152108Z
UID:17905-1780223400-1780230600@www.phbc.org.uk
SUMMARY:PHBC Family Worship Service: FAMOUS LAST WORDS: What Paul Said
DESCRIPTION:Join us in person and online\, at our regular time of worship this Sunday at 10:30am for part 3 of our sermon series – FAMOUS LAST WORDS. The theme for this week is\, ‘What Paul Said’. We’re pretty confident you’ll be blessed. \nWhen someone is leaving and more importantly\, when they are dying\, their last words are often very critical. Our 10-week sermon series takes a look at the final instructions of various biblical characters to help us grow in our understanding of God’s instructions to us. In this sermon we consider some of the famous last words of Paul. \nThe full service will be streamed live on our radio station\, PHBC Radio\, as well as via YouTube\, Facebook and Twitter. \nDownload the PHBC Radio app today: \nFOR APPLE – https://apps.apple.com/us/app/phbc-radio/id1517137702?ls=1\nFOR ANDROID – https://play.google.com/store/apps/details?id=com.vDevs.phcbpro\nSUBSCRIBE TO OUR CHANNEL – https://www.youtube.com/channel/UCTW1g0yFO0su73L3xBojOIQ?sub_confirmation=1\n.\n﻿﻿﻿﻿﻿﻿﻿﻿﻿﻿﻿﻿﻿﻿﻿﻿﻿﻿﻿﻿﻿﻿﻿﻿﻿﻿﻿﻿﻿﻿﻿﻿﻿﻿﻿﻿﻿﻿﻿﻿﻿﻿﻿﻿﻿﻿﻿﻿﻿﻿﻿﻿﻿﻿﻿﻿
URL:https://www.phbc.org.uk/event/phbc-family-worship-service-famous-last-words-what-paul-said/
CATEGORIES:PHBC Events
ATTACH;FMTTYPE=image/jpeg:https://www.phbc.org.uk/wp-content/uploads/2026/04/260531.jpeg
END:VEVENT
BEGIN:VEVENT
DTSTART;TZID=Europe/London:20260607T103000
DTEND;TZID=Europe/London:20260607T123000
DTSTAMP:20260422T011822
CREATED:20260421T161907Z
LAST-MODIFIED:20260421T161907Z
UID:17912-1780828200-1780835400@www.phbc.org.uk
SUMMARY:PHBC Family Worship Service: FAMOUS LAST WORDS: What Jesus Said Pt.1
DESCRIPTION:Join us in person and online\, at our regular time of worship this Sunday at 10:30am for part 4 of our sermon series – FAMOUS LAST WORDS. The theme for this week is\, ‘What Jesus Said Pt.1’. We’re pretty confident you’ll be blessed. \nWhen someone is leaving and more importantly\, when they are dying\, their last words are often very critical. Our 10-week sermon series takes a look at the final instructions of various biblical characters to help us grow in our understanding of God’s instructions to us. In this sermon we consider some of the famous last words of Jesus. \nThe full service will be streamed live on our radio station\, PHBC Radio\, as well as via YouTube\, Facebook and Twitter. \nDownload the PHBC Radio app today: \nFOR APPLE – https://apps.apple.com/us/app/phbc-radio/id1517137702?ls=1\nFOR ANDROID – https://play.google.com/store/apps/details?id=com.vDevs.phcbpro\nSUBSCRIBE TO OUR CHANNEL – https://www.youtube.com/channel/UCTW1g0yFO0su73L3xBojOIQ?sub_confirmation=1\n.\n﻿﻿﻿﻿﻿﻿﻿﻿﻿﻿﻿﻿﻿﻿﻿﻿﻿﻿﻿﻿﻿﻿﻿﻿﻿﻿﻿﻿﻿﻿﻿﻿﻿﻿﻿﻿﻿﻿﻿﻿﻿﻿﻿﻿﻿﻿﻿﻿﻿﻿﻿﻿﻿﻿﻿﻿﻿﻿﻿
URL:https://www.phbc.org.uk/event/phbc-family-worship-service-famous-last-words-what-jesus-said-pt-1/
CATEGORIES:PHBC Events
ATTACH;FMTTYPE=image/jpeg:https://www.phbc.org.uk/wp-content/uploads/2026/04/260607.jpeg
END:VEVENT
BEGIN:VEVENT
DTSTART;TZID=Europe/London:20260614T103000
DTEND;TZID=Europe/London:20260614T123000
DTSTAMP:20260422T011822
CREATED:20260421T161215Z
LAST-MODIFIED:20260421T161726Z
UID:17908-1781433000-1781440200@www.phbc.org.uk
SUMMARY:PHBC Family Worship Service: FAMOUS LAST WORDS: What Jesus Said Pt.2
DESCRIPTION:Join us in person and online\, at our regular time of worship this Sunday at 10:30am for part 5 of our sermon series – FAMOUS LAST WORDS. The theme for this week is\, ‘What Jesus Said Pt.2’. We’re pretty confident you’ll be blessed. \nWhen someone is leaving and more importantly\, when they are dying\, their last words are often very critical. Our 10-week sermon series takes a look at the final instructions of various biblical characters to help us grow in our understanding of God’s instructions to us. In this sermon we consider some of the famous last words of Jesus. \nThe full service will be streamed live on our radio station\, PHBC Radio\, as well as via YouTube\, Facebook and Twitter. \nDownload the PHBC Radio app today: \nFOR APPLE – https://apps.apple.com/us/app/phbc-radio/id1517137702?ls=1\nFOR ANDROID – https://play.google.com/store/apps/details?id=com.vDevs.phcbpro\nSUBSCRIBE TO OUR CHANNEL – https://www.youtube.com/channel/UCTW1g0yFO0su73L3xBojOIQ?sub_confirmation=1\n.\n﻿﻿﻿﻿﻿﻿﻿﻿﻿﻿﻿﻿﻿﻿﻿﻿﻿﻿﻿﻿﻿﻿﻿﻿﻿﻿﻿﻿﻿﻿﻿﻿﻿﻿﻿﻿﻿﻿﻿﻿﻿﻿﻿﻿﻿﻿﻿﻿﻿﻿﻿﻿﻿﻿﻿﻿﻿﻿
URL:https://www.phbc.org.uk/event/phbc-family-worship-service-famous-last-words-what-jesus-said-pt-2/
CATEGORIES:PHBC Events
ATTACH;FMTTYPE=image/jpeg:https://www.phbc.org.uk/wp-content/uploads/2026/04/260614.jpeg
END:VEVENT
BEGIN:VEVENT
DTSTART;TZID=Europe/London:20260621T103000
DTEND;TZID=Europe/London:20260621T123000
DTSTAMP:20260422T011822
CREATED:20260421T162031Z
LAST-MODIFIED:20260421T162031Z
UID:17914-1782037800-1782045000@www.phbc.org.uk
SUMMARY:PHBC Family Worship Service: FAMOUS LAST WORDS: What Jesus Said Pt.3
DESCRIPTION:Join us in person and online\, at our regular time of worship this Sunday at 10:30am for part 6 of our sermon series – FAMOUS LAST WORDS. The theme for this week is\, ‘What Jesus Said Pt.3’. We’re pretty confident you’ll be blessed. \nWhen someone is leaving and more importantly\, when they are dying\, their last words are often very critical. Our 10-week sermon series takes a look at the final instructions of various biblical characters to help us grow in our understanding of God’s instructions to us. In this sermon we consider some of the famous last words of Jesus. \nThe full service will be streamed live on our radio station\, PHBC Radio\, as well as via YouTube\, Facebook and Twitter. \nDownload the PHBC Radio app today: \nFOR APPLE – https://apps.apple.com/us/app/phbc-radio/id1517137702?ls=1\nFOR ANDROID – https://play.google.com/store/apps/details?id=com.vDevs.phcbpro\nSUBSCRIBE TO OUR CHANNEL – https://www.youtube.com/channel/UCTW1g0yFO0su73L3xBojOIQ?sub_confirmation=1\n.\n﻿﻿﻿﻿﻿﻿﻿﻿﻿﻿﻿﻿﻿﻿﻿﻿﻿﻿﻿﻿﻿﻿﻿﻿﻿﻿﻿﻿﻿﻿﻿﻿﻿﻿﻿﻿﻿﻿﻿﻿﻿﻿﻿﻿﻿﻿﻿﻿﻿﻿﻿﻿﻿﻿﻿﻿﻿﻿﻿﻿
URL:https://www.phbc.org.uk/event/phbc-family-worship-service-famous-last-words-what-jesus-said-pt-3/
CATEGORIES:PHBC Events
ATTACH;FMTTYPE=image/jpeg:https://www.phbc.org.uk/wp-content/uploads/2026/04/260621.jpeg
END:VEVENT
BEGIN:VEVENT
DTSTART;TZID=Europe/London:20260628T103000
DTEND;TZID=Europe/London:20260628T123000
DTSTAMP:20260422T011822
CREATED:20260421T162141Z
LAST-MODIFIED:20260421T162141Z
UID:17916-1782642600-1782649800@www.phbc.org.uk
SUMMARY:PHBC Family Worship Service: FAMOUS LAST WORDS: What Jesus Said Pt.4
DESCRIPTION:Join us in person and online\, at our regular time of worship this Sunday at 10:30am for part 7 of our sermon series – FAMOUS LAST WORDS. The theme for this week is\, ‘What Jesus Said Pt.4’. We’re pretty confident you’ll be blessed. \nWhen someone is leaving and more importantly\, when they are dying\, their last words are often very critical. Our 10-week sermon series takes a look at the final instructions of various biblical characters to help us grow in our understanding of God’s instructions to us. In this sermon we consider some of the famous last words of Jesus. \nThe full service will be streamed live on our radio station\, PHBC Radio\, as well as via YouTube\, Facebook and Twitter. \nDownload the PHBC Radio app today: \nFOR APPLE – https://apps.apple.com/us/app/phbc-radio/id1517137702?ls=1\nFOR ANDROID – https://play.google.com/store/apps/details?id=com.vDevs.phcbpro\nSUBSCRIBE TO OUR CHANNEL – https://www.youtube.com/channel/UCTW1g0yFO0su73L3xBojOIQ?sub_confirmation=1\n.\n﻿﻿﻿﻿﻿﻿﻿﻿﻿﻿﻿﻿﻿﻿﻿﻿﻿﻿﻿﻿﻿﻿﻿﻿﻿﻿﻿﻿﻿﻿﻿﻿﻿﻿﻿﻿﻿﻿﻿﻿﻿﻿﻿﻿﻿﻿﻿﻿﻿﻿﻿﻿﻿﻿﻿﻿﻿﻿﻿﻿﻿
URL:https://www.phbc.org.uk/event/phbc-family-worship-service-famous-last-words-what-jesus-said-pt-4/
CATEGORIES:PHBC Events
ATTACH;FMTTYPE=image/jpeg:https://www.phbc.org.uk/wp-content/uploads/2026/04/260628.jpeg
END:VEVENT
BEGIN:VEVENT
DTSTART;TZID=Europe/London:20260705T103000
DTEND;TZID=Europe/London:20260705T123000
DTSTAMP:20260422T011822
CREATED:20260421T162338Z
LAST-MODIFIED:20260421T162338Z
UID:17918-1783247400-1783254600@www.phbc.org.uk
SUMMARY:PHBC Family Worship Service: FAMOUS LAST WORDS: What Jesus Said Pt.5
DESCRIPTION:Join us in person and online\, at our regular time of worship this Sunday at 10:30am for part 8 of our sermon series – FAMOUS LAST WORDS. The theme for this week is\, ‘What Jesus Said Pt.5’. We’re pretty confident you’ll be blessed. \nWhen someone is leaving and more importantly\, when they are dying\, their last words are often very critical. Our 10-week sermon series takes a look at the final instructions of various biblical characters to help us grow in our understanding of God’s instructions to us. In this sermon we consider some of the famous last words of Jesus. \nThe full service will be streamed live on our radio station\, PHBC Radio\, as well as via YouTube\, Facebook and Twitter. \nDownload the PHBC Radio app today: \nFOR APPLE – https://apps.apple.com/us/app/phbc-radio/id1517137702?ls=1\nFOR ANDROID – https://play.google.com/store/apps/details?id=com.vDevs.phcbpro\nSUBSCRIBE TO OUR CHANNEL – https://www.youtube.com/channel/UCTW1g0yFO0su73L3xBojOIQ?sub_confirmation=1\n.\n﻿﻿﻿﻿﻿﻿﻿﻿﻿﻿﻿﻿﻿﻿﻿﻿﻿﻿﻿﻿﻿﻿﻿﻿﻿﻿﻿﻿﻿﻿﻿﻿﻿﻿﻿﻿﻿﻿﻿﻿﻿﻿﻿﻿﻿﻿﻿﻿﻿﻿﻿﻿﻿﻿﻿﻿﻿﻿﻿﻿﻿﻿
URL:https://www.phbc.org.uk/event/phbc-family-worship-service-famous-last-words-what-jesus-said-pt-5/
CATEGORIES:PHBC Events
ATTACH;FMTTYPE=image/jpeg:https://www.phbc.org.uk/wp-content/uploads/2026/04/260705.jpeg
END:VEVENT
BEGIN:VEVENT
DTSTART;TZID=Europe/London:20260712T103000
DTEND;TZID=Europe/London:20260712T123000
DTSTAMP:20260422T011822
CREATED:20260421T162459Z
LAST-MODIFIED:20260421T162459Z
UID:17920-1783852200-1783859400@www.phbc.org.uk
SUMMARY:PHBC Family Worship Service: FAMOUS LAST WORDS: What Jesus Said Pt.6
DESCRIPTION:Join us in person and online\, at our regular time of worship this Sunday at 10:30am for part 9 of our sermon series – FAMOUS LAST WORDS. The theme for this week is\, ‘What Jesus Said Pt.6’. We’re pretty confident you’ll be blessed. \nWhen someone is leaving and more importantly\, when they are dying\, their last words are often very critical. Our 10-week sermon series takes a look at the final instructions of various biblical characters to help us grow in our understanding of God’s instructions to us. In this sermon we consider some of the famous last words of Jesus. \nThe full service will be streamed live on our radio station\, PHBC Radio\, as well as via YouTube\, Facebook and Twitter. \nDownload the PHBC Radio app today: \nFOR APPLE – https://apps.apple.com/us/app/phbc-radio/id1517137702?ls=1\nFOR ANDROID – https://play.google.com/store/apps/details?id=com.vDevs.phcbpro\nSUBSCRIBE TO OUR CHANNEL – https://www.youtube.com/channel/UCTW1g0yFO0su73L3xBojOIQ?sub_confirmation=1\n.\n﻿﻿﻿﻿﻿﻿﻿﻿﻿﻿﻿﻿﻿﻿﻿﻿﻿﻿﻿﻿﻿﻿﻿﻿﻿﻿﻿﻿﻿﻿﻿﻿﻿﻿﻿﻿﻿﻿﻿﻿﻿﻿﻿﻿﻿﻿﻿﻿﻿﻿﻿﻿﻿﻿﻿﻿﻿﻿﻿﻿﻿﻿﻿
URL:https://www.phbc.org.uk/event/phbc-family-worship-service-famous-last-words-what-jesus-said-pt-6/
CATEGORIES:PHBC Events
ATTACH;FMTTYPE=image/jpeg:https://www.phbc.org.uk/wp-content/uploads/2026/04/260712.jpeg
END:VEVENT
BEGIN:VEVENT
DTSTART;TZID=Europe/London:20260719T103000
DTEND;TZID=Europe/London:20260719T123000
DTSTAMP:20260422T011822
CREATED:20260421T162639Z
LAST-MODIFIED:20260421T162639Z
UID:17922-1784457000-1784464200@www.phbc.org.uk
SUMMARY:PHBC Family Worship Service: FAMOUS LAST WORDS: What Jesus Said Pt.7
DESCRIPTION:Join us in person and online\, at our regular time of worship this Sunday at 10:30am for the final sermon in our series – FAMOUS LAST WORDS. The theme for this week is\, ‘What Jesus Said Pt.7’. We’re pretty confident you’ll be blessed. \nWhen someone is leaving and more importantly\, when they are dying\, their last words are often very critical. Our 10-week sermon series takes a look at the final instructions of various biblical characters to help us grow in our understanding of God’s instructions to us. In this sermon we consider some of the famous last words of Jesus. \nThe full service will be streamed live on our radio station\, PHBC Radio\, as well as via YouTube\, Facebook and Twitter. \nDownload the PHBC Radio app today: \nFOR APPLE – https://apps.apple.com/us/app/phbc-radio/id1517137702?ls=1\nFOR ANDROID – https://play.google.com/store/apps/details?id=com.vDevs.phcbpro\nSUBSCRIBE TO OUR CHANNEL – https://www.youtube.com/channel/UCTW1g0yFO0su73L3xBojOIQ?sub_confirmation=1\n.\n﻿﻿﻿﻿﻿﻿﻿﻿﻿﻿﻿﻿﻿﻿﻿﻿﻿﻿﻿﻿﻿﻿﻿﻿﻿﻿﻿﻿﻿﻿﻿﻿﻿﻿﻿﻿﻿﻿﻿﻿﻿﻿﻿﻿﻿﻿﻿﻿﻿﻿﻿﻿﻿﻿﻿﻿﻿﻿﻿﻿﻿﻿﻿﻿
URL:https://www.phbc.org.uk/event/phbc-family-worship-service-famous-last-words-what-jesus-said-pt-7/
CATEGORIES:PHBC Events
ATTACH;FMTTYPE=image/jpeg:https://www.phbc.org.uk/wp-content/uploads/2026/04/260719.jpeg
END:VEVENT
END:VCALENDAR